BEGIN:VCALENDAR
VERSION:2.0
PRODID:-//Sheet Metal Contractors Association of Alberta - ECPv6.11.2//NONSGML v1.0//EN
CALSCALE:GREGORIAN
METHOD:PUBLISH
X-ORIGINAL-URL:https://smacna-ab.ca
X-WR-CALDESC:Events for Sheet Metal Contractors Association of Alberta
REFRESH-INTERVAL;VALUE=DURATION:PT1H
X-Robots-Tag:noindex
X-PUBLISHED-TTL:PT1H
BEGIN:VTIMEZONE
TZID:America/Toronto
BEGIN:DAYLIGHT
TZOFFSETFROM:-0500
TZOFFSETTO:-0400
TZNAME:EDT
DTSTART:20260308T070000
END:DAYLIGHT
BEGIN:STANDARD
TZOFFSETFROM:-0400
TZOFFSETTO:-0500
TZNAME:EST
DTSTART:20261101T060000
END:STANDARD
END:VTIMEZONE
BEGIN:VEVENT
DTSTART;TZID=America/Toronto:20260917T080000
DTEND;TZID=America/Toronto:20260917T150000
DTSTAMP:20260425T112732
CREATED:20260413T170046Z
LAST-MODIFIED:20260423T180740Z
UID:10000026-1789632000-1789657200@smacna-ab.ca
SUMMARY:Edmonton Golf Tournament - DATE CHANGE - from June 11 to September 17 @ The Ranch Golf & Country Club
DESCRIPTION:We understand that ASHRAE Northern has scheduled its golf tournament on the exact same day and time as ours on June 11. For this reason\, we have decided to move our tournament to September 17\, with an 8:00 a.m. shotgun start. \nWe believe this change is important\, as many of our members belong to both organizations\, and we want to avoid putting anyone in the position of having to choose between the two events. All registrations received to date will remain in place unless you notify us that you wish to cancel or make changes. We hope you understand and support this decision\, and for those members who were conflicted\, you can now attend both tournaments. \nScholarship recipient cheque presentations were originally planned to take place at the June tournament. With the tournament now rescheduled to September\, we do not feel it is appropriate to ask recipients to wait that long. Instead\, once the scholarship recipients have been selected\, arrangements will be made for members of the Edmonton Executive to present the cheques individually at each recipient’s place of employment\, at a time convenient for both the employer and employee. \nAgain\, we hope this decision helps support our members’ involvement in both organizations and is seen as a positive solution for everyone involved. \n\n\n\nGet ready for an unforgettable day on the greens! ⛳🎉 Join SMACNA-AB and our Northern Alberta members on June 11 September 17\, 2026\, at the stunning Ranch Golf & Country Club for a can’t-miss golf experience packed with fun\, connection\, and celebration. \n🚨 Bonus perk: The first 50 golfers to register score a FREE SMACNA-AB golf shirt (available in S/M/L/XL/XXL)—don’t wait! \nWe’re absolutely thrilled to bring this incredible event to life and can’t wait to welcome you. Round up your subcontractors\, builders\, employees\, and friends for a day filled with great company\, exciting competitions\, amazing prizes\, and the ultimate bragging rights—the coveted trophy is up for grabs! \nBest of all\, this event proudly supports the SMACNA-AB Scholarship Program. We’ll have the honour of awarding scholarships to deserving recipients during the day\, making your participation truly meaningful. \nCome connect\, celebrate\, and create lasting memories—while supporting a fantastic cause. See you on the course! 🏆🌟
URL:https://smacna-ab.ca/event/edmonton-golf-tournament-june-11-the-ranch-golf-country-club/
LOCATION:The Ranch Golf & Country Club\, 9574 Pinchbeck Road\, Acheson\, Alberta\, T7X 6K8\, Canada
CATEGORIES:In Person
ATTACH;FMTTYPE=image/jpeg:https://smacna-ab.ca/wp-content/uploads/2026/04/Designer-3.jpg
ORGANIZER;CN="SMACNA-AB":MAILTO:wilma@smacna-ab.ca
END:VEVENT
END:VCALENDAR