BEGIN:VCALENDAR
VERSION:2.0
PRODID:-//Sheet Metal Contractors Association of Alberta - ECPv6.11.2//NONSGML v1.0//EN
CALSCALE:GREGORIAN
METHOD:PUBLISH
X-ORIGINAL-URL:https://smacna-ab.ca
X-WR-CALDESC:Events for Sheet Metal Contractors Association of Alberta
REFRESH-INTERVAL;VALUE=DURATION:PT1H
X-Robots-Tag:noindex
X-PUBLISHED-TTL:PT1H
BEGIN:VTIMEZONE
TZID:America/Toronto
BEGIN:DAYLIGHT
TZOFFSETFROM:-0500
TZOFFSETTO:-0400
TZNAME:EDT
DTSTART:20240310T070000
END:DAYLIGHT
BEGIN:STANDARD
TZOFFSETFROM:-0400
TZOFFSETTO:-0500
TZNAME:EST
DTSTART:20241103T060000
END:STANDARD
END:VTIMEZONE
BEGIN:VEVENT
DTSTART;TZID=America/Toronto:20241212T163000
DTEND;TZID=America/Toronto:20241212T200000
DTSTAMP:20260420T093917
CREATED:20241010T185256Z
LAST-MODIFIED:20241128T220151Z
UID:10000007-1734021000-1734033600@smacna-ab.ca
SUMMARY:Spirits with Smoke - Edmonton - Dec 12\, 2024
DESCRIPTION:Join SMACNA-AB and its members for our exciting event\, Spirits With Smoke\, on December 12 at the Matrix Hotel. \nShaken? Stirred? Why not both? Their Stir and Shake Cocktail Class\, led by their expert mixologists\, will give our guests everything they need to learn to make their own stirred and shaken cocktails. Enjoy some tasty bites with your alcoholic education. To top it off\, leave with your mini smoking board\, bitters\, and muddler — everything you need to stir up some trouble at home. \nThis event\, includes a welcoming beverage and charcuterie boards. Each guest will learn hands-on how to make two cocktails (maybe three\, depending on time). \nIf you would like to sponsor this event as a host\, please get in touch with Wilma Agnew directly at 403-250-7040.
URL:https://smacna-ab.ca/event/spirits-with-smoke-edmonton-dec-12-2024/
LOCATION:Matrix Hotel\, 10640 100 Ave NW\, Edmonton\, Alberta\, T5J 3N8\, Canada
CATEGORIES:In Person
ATTACH;FMTTYPE=image/webp:https://smacna-ab.ca/wp-content/uploads/2024/10/Starter_Square_1800x1800.webp
ORGANIZER;CN="SMACNA-AB":MAILTO:wilma@smacna-ab.ca
END:VEVENT
END:VCALENDAR