BEGIN:VCALENDAR
VERSION:2.0
PRODID:-//Sheet Metal Contractors Association of Alberta - ECPv6.11.2//NONSGML v1.0//EN
CALSCALE:GREGORIAN
METHOD:PUBLISH
X-WR-CALNAME:Sheet Metal Contractors Association of Alberta
X-ORIGINAL-URL:https://smacna-ab.ca
X-WR-CALDESC:Events for Sheet Metal Contractors Association of Alberta
REFRESH-INTERVAL;VALUE=DURATION:PT1H
X-Robots-Tag:noindex
X-PUBLISHED-TTL:PT1H
BEGIN:VTIMEZONE
TZID:America/Toronto
BEGIN:DAYLIGHT
TZOFFSETFROM:-0500
TZOFFSETTO:-0400
TZNAME:EDT
DTSTART:20250309T070000
END:DAYLIGHT
BEGIN:STANDARD
TZOFFSETFROM:-0400
TZOFFSETTO:-0500
TZNAME:EST
DTSTART:20251102T060000
END:STANDARD
END:VTIMEZONE
BEGIN:VEVENT
DTSTART;TZID=America/Toronto:20250625T070000
DTEND;TZID=America/Toronto:20250625T200000
DTSTAMP:20260420T053950
CREATED:20250424T142334Z
LAST-MODIFIED:20250603T171958Z
UID:10000014-1750834800-1750881600@smacna-ab.ca
SUMMARY:Calgary Golf Tournament - June 25 @ The Hamptons Golf Club S0LD OUT
DESCRIPTION:Gear up for an extraordinary day with SMACNA-AB and our Southern Alberta members at the stunning Hampton’s Golf Course on June 25! \nAdditionally\, you’ll have the opportunity to purchase the newly designed Royal Blue Holloway Coolcore Performance Polo for an added fee. Five dollars from every shirt sold will go directly to support the SMACNA-AB Scholarship Program. \nWe’re beyond excited to host this remarkable event at The Hamptons Golf Club\, our debut venue\, and are eager for you to join the festivities. Invite your subcontractors\, builders\, employees\, and friends to enjoy a day packed with camaraderie\, thrilling competitions\, incredible prizes\, and the ultimate challenge: claiming the coveted trophy. \nMost importantly\, this event proudly supports the SMACNA-AB Scholarship Program\, and we will be honoured to present scholarships to deserving recipients during the event. Don’t miss this fantastic opportunity to connect\, celebrate\, and make memories while contributing to a meaningful cause! \n 
URL:https://smacna-ab.ca/event/calgary-golf-tournament-june-25-the-hamptons-golf-club/
LOCATION:The Hamptons Golf Course\, 69 Hamptons Dr NW\, Calgary\, Alberta\, T3A 5H7\, Canada
CATEGORIES:In Person
ATTACH;FMTTYPE=image/png:https://smacna-ab.ca/wp-content/uploads/2025/04/Calgary-Golf-2025.png
ORGANIZER;CN="SMACNA-AB":MAILTO:wilma@smacna-ab.ca
END:VEVENT
END:VCALENDAR